BEGIN:VCALENDAR
VERSION:2.0
PRODID:icalendar-ruby
CALSCALE:GREGORIAN
METHOD:PUBLISH
BEGIN:VEVENT
DTSTAMP:20260422T092640Z
UID:209-1587911@crossroadlutheran.com
DTSTART:20260927T143000Z
DTEND:20260927T153000Z
CLASS:PUBLIC
CREATED:20260421T194413
DESCRIPTION:Faith Formation Classes at 10:30 am 
LAST-MODIFIED:20260421T194413
LOCATION:Crossroad Lutheran Church 
SUMMARY:Faith Formation Classes
URL;VALUE=URI:https://www.crossroadlutheran.com/events/faith-formation-clas
 ses/2026-09-27
ATTACH;FILENAME=Faith-Formation-Classes-NEW.png;FMTTYPE=image/png:https://d
 q5pwpg1q8ru0.cloudfront.net/2026/04/09/19/07/01/a5ef8bed-6810-406f-8e53-78
 e3ac3bb0b3/Faith-Formation-Classes-NEW.png
END:VEVENT
END:VCALENDAR
